BEGIN:VCALENDAR
VERSION:2.0
PRODID:SchoolNow
CALSCALE:GREGORIAN
BEGIN:VEVENT
UID:732b3014-3f1d-11f1-809d-0a58a9feac02
DTSTAMP:20260424T082008Z
SUMMARY:Overall State Field Events - Canton Academy
URL;VALUE=URI:https://www.leeacademycolts.org/calendar/9013287/overall-stat
 e-field-events-canton-academy
DTSTART;VALUE=DATE:20260501
DTEND;VALUE=DATE:20260502
END:VEVENT
END:VCALENDAR
