BEGIN:VCALENDAR
VERSION:2.0
PRODID:SchoolNow
CALSCALE:GREGORIAN
BEGIN:VEVENT
UID:732b2894-3f1d-11f1-b26b-0a58a9feac02
DTSTAMP:20260424T082008Z
SUMMARY:Overall State Running Events - Jackson Prep
URL;VALUE=URI:https://www.leeacademycolts.org/calendar/9013286/overall-stat
 e-running-events-jackson-prep
DTSTART;VALUE=DATE:20260502
DTEND;VALUE=DATE:20260503
END:VEVENT
END:VCALENDAR
