BEGIN:VCALENDAR
VERSION:2.0
PRODID:SchoolNow
CALSCALE:GREGORIAN
BEGIN:VEVENT
UID:a84cfc34-3abb-11f1-b2e9-0a58a9feac02
DTSTAMP:20260422T134508Z
SUMMARY:Teacher Appreciation Lunch - hosted by Class of 2026
URL;VALUE=URI:https://www.leeacademycolts.org/calendar/9001702/teacher-appr
 eciation-lunch-hosted-by-class-of-2026
DTSTART;VALUE=DATE:20260504
DTEND;VALUE=DATE:20260505
END:VEVENT
END:VCALENDAR
